BEGIN:VCALENDAR
VERSION:2.0
PRODID:icalendar-ruby
CALSCALE:GREGORIAN
METHOD:PUBLISH
BEGIN:VEVENT
DTSTAMP:20260423T024414Z
UID:6-297646@faithbaptistmtairy.com
DTSTART:20261011T123000Z
DTEND:20261011T134500Z
CLASS:PUBLIC
CREATED:20260422T202911
DESCRIPTION:
LAST-MODIFIED:20260422T202911
LOCATION:
SUMMARY:Sunday Early Worship
URL;VALUE=URI:https://faithbaptistmtairy.com/events/sunday-early-worship/20
 26-10-11
ATTACH;FILENAME=YQo9.jpg;FMTTYPE=image/jpeg:https://dq5pwpg1q8ru0.cloudfron
 t.net/2025/11/21/19/43/18/4e5b39b9-8229-4053-aa56-2ee8d33fae4f/YQo9.jpg
END:VEVENT
END:VCALENDAR
